Workbook

Sheet Overview
A1: Total Ad Spend | B1: =M11 -> 58.16
A2: Total Revenue | B2: =L11 -> 280
A3: Total Profits | B3: =B2-B1 -> 221.84
A5: Ad Account | B5: Language | C5: Campaign | D5: Objective | E5: Ads | F5: Landers | G5: Dialed # | H5: Incoming | I5: Completed | J5: Converted | K5: Duplicate | L5: Revenue | M5: Ad Spend | N5: Profit
A6: 0 | B6: English | C6: Website & FB Page | G6: 18881234567 | H6: =Monday!H2+Tuesday!H2+Wednesday!H2+Thursday!H2+Friday!H2+Saturday!H2+Sunday!H2 -> 3 | I6: =Monday!I2+Tuesday!I2+Wednesday!I2+Thursday!I2+Friday!I2+Saturday!I2+Sunday!I2 -> 3 | J6: =Monday!J2+Tuesday!J2+Wednesday!J2+Thursday!J2+Friday!J2+Saturday!J2+Sunday!J2 -> 1 | K6: =Monday!K2+Tuesday!K2+Wednesday!K2+Thursday!K2+Friday!K2+Saturday!K2+Sunday!K2 -> 0 | L6: =Monday!L2+Tuesday!L2+Wednesday!L2+Thursday!L2+Friday!L2+Saturday!L2+Sunday!L2 -> 35 | M6: =Monday!M2+Tuesday!M2+Wednesday!M2+Thursday!M2+Friday!M2+Saturday!M2+Sunday!M2 -> 0 | N6: =L6-M6 -> 35
A7: 1 | B7: Spanish | C7: Sample Campaign | D7: Lead Generation - Call Ads | G7: 18559876541 | H7: =Monday!H3+Tuesday!H3+Wednesday!H3+Thursday!H3+Friday!H3+Saturday!H3+Sunday!H3 -> 19 | I7: =Monday!I3+Tuesday!I3+Wednesday!I3+Thursday!I3+Friday!I3+Saturday!I3+Sunday!I3 -> 18 | J7: =Monday!J3+Tuesday!J3+Wednesday!J3+Thursday!J3+Friday!J3+Saturday!J3+Sunday!J3 -> 7 | K7: =Monday!K3+Tuesday!K3+Wednesday!K3+Thursday!K3+Friday!K3+Saturday!K3+Sunday!K3 -> 10 | L7: =Monday!L3+Tuesday!L3+Wednesday!L3+Thursday!L3+Friday!L3+Saturday!L3+Sunday!L3 -> 245 | M7: =Monday!M3+Tuesday!M3+Wednesday!M3+Thursday!M3+Friday!M3+Saturday!M3+Sunday!M3 -> 58.16 | N7: =L7-M7 -> 186.84
H8: =Monday!H4+Tuesday!H4+Wednesday!H4+Thursday!H4+Friday!H4+Saturday!H4+Sunday!H4 -> 0 | I8: =Monday!I4+Tuesday!I4+Wednesday!I4+Thursday!I4+Friday!I4+Saturday!I4+Sunday!I4 -> 0 | J8: =Monday!J4+Tuesday!J4+Wednesday!J4+Thursday!J4+Friday!J4+Saturday!J4+Sunday!J4 -> 0 | K8: =Monday!K4+Tuesday!K4+Wednesday!K4+Thursday!K4+Friday!K4+Saturday!K4+Sunday!K4 -> 0 | L8: =Monday!L4+Tuesday!L4+Wednesday!L4+Thursday!L4+Friday!L4+Saturday!L4+Sunday!L4 -> 0 | M8: =Monday!M4+Tuesday!M4+Wednesday!M4+Thursday!M4+Friday!M4+Saturday!M4+Sunday!M4 -> 0 | N8: =L8-M8 -> 0
H9: =Monday!H5+Tuesday!H5+Wednesday!H5+Thursday!H5+Friday!H5+Saturday!H5+Sunday!H5 -> 0 | I9: =Monday!I5+Tuesday!I5+Wednesday!I5+Thursday!I5+Friday!I5+Saturday!I5+Sunday!I5 -> 0 | J9: =Monday!J5+Tuesday!J5+Wednesday!J5+Thursday!J5+Friday!J5+Saturday!J5+Sunday!J5 -> 0 | K9: =Monday!K5+Tuesday!K5+Wednesday!K5+Thursday!K5+Friday!K5+Saturday!K5+Sunday!K5 -> 0 | L9: =Monday!L5+Tuesday!L5+Wednesday!L5+Thursday!L5+Friday!L5+Saturday!L5+Sunday!L5 -> 0 | M9: =Monday!M5+Tuesday!M5+Wednesday!M5+Thursday!M5+Friday!M5+Saturday!M5+Sunday!M5 -> 0 | N9: =L9-M9 -> 0
H10: =Monday!H6+Tuesday!H6+Wednesday!H6+Thursday!H6+Friday!H6+Saturday!H6+Sunday!H6 -> 0 | I10: =Monday!I6+Tuesday!I6+Wednesday!I6+Thursday!I6+Friday!I6+Saturday!I6+Sunday!I6 -> 0 | J10: =Monday!J6+Tuesday!J6+Wednesday!J6+Thursday!J6+Friday!J6+Saturday!J6+Sunday!J6 -> 0 | K10: =Monday!K6+Tuesday!K6+Wednesday!K6+Thursday!K6+Friday!K6+Saturday!K6+Sunday!K6 -> 0 | L10: =Monday!L6+Tuesday!L6+Wednesday!L6+Thursday!L6+Friday!L6+Saturday!L6+Sunday!L6 -> 0 | M10: =Monday!M6+Tuesday!M6+Wednesday!M6+Thursday!M6+Friday!M6+Saturday!M6+Sunday!M6 -> 0 | N10: =L10-M10 -> 0
H11: =SUM(H6:H10) -> 22 | I11: =SUM(I6:I10) -> 21 | J11: =SUM(J6:J10) -> 8 | K11: =SUM(K6:K10) -> 10 | L11: =SUM(L6:L10) -> 280 | M11: =SUM(M6:M10) -> 58.16 | N11: =L11-M11 -> 221.84

Sheet Quick Stats
A1: Overview | B1: Account | C1: Ad Account | D1: Spend | F1: Call Revenue | H1: Profits | L1: CPC | M1: Cost Per Call
B2: My Business | C2: 1 | D2: =D12+D22+D32+D42+D52+D62+D72 -> 0 | F2: =F12+F22+F32+F42+F52+F62+F72 -> 0 | H2: =H12+H22+H32+H42+H52+H62+H72 -> 0 | L2: CPCC | M2: Cost Per Converted Call
D3: =D13+D23+D33+D43+D53+D63+D73 -> 0 | L3: RPC | M3: Revenue Per Call
D4: =D14+D24+D34+D44+D54+D64+D74 -> 0 | F4: CPRC | H4: ROI % | J4: RPC | L4: RPCC | M4: Revenue Per Converted Call
D5: =D15+D25+D35+D45+D55+D65+D75 -> 0 | F5: =D8/Overview!H11 -> 0 | H5: =(H2/D8) -> #DIV/0! | J5: =H2/Overview!H11 -> 0 | L5: ROI | M5: Return On Investment %
D6: =D16+D26+D36+D46+D56+D66+D76 -> 0
D7: =D17+D27+D37+D47+D57+D67+D77 -> 0 | F7: CPCC | J7: RPCC
B8: Total | D8: =SUM(D2:D7) -> 0 | F8: =D8/Overview!J11 -> 0 | J8: =H2/Overview!J11 -> 0
A10: Monday
A11: Monday | B11: Account | C11: Ad Account | D11: Spend | F11: Call Revenue | H11: Profits
B12: My Business | C12: 1 | H12: =F12-D18 -> 0
F14: CPC | H14: ROI % | J14: RPC
F15: =D18/Monday!H7 -> 0 | H15: =(H12/D18) -> #DIV/0! | J15: =H12/Monday!H7 -> 0
F17: CPCC | J17: RPCC
B18: Total | D18: =SUM(D12:D17) -> 0 | F18: =D18/Monday!J7 -> 0 | J18: =H12/Monday!J7 -> 0
A20: Tuesday
A21: Tuesday | B21: Account | C21: Ad Account | D21: Spend | F21: Call Revenue | H21: Profits
H22: =F22-D28 -> 0
F24: CPC | H24: ROI % | J24: RPC
F25: =D28/Tuesday!H7 -> #DIV/0! | H25: =(H22/D28) -> #DIV/0! | J25: =H22/Tuesday!H7 -> #DIV/0!
F27: CPCC | J27: RPCC
B28: Total | D28: =SUM(D22:D27) -> 0 | F28: =D28/Tuesday!J7 -> #DIV/0! | J28: =H22/Tuesday!J7 -> #DIV/0!
A30: Wednesday
A31: Wednesday | B31: Account | C31: Ad Account | D31: Spend | F31: Call Revenue | H31: Profits
H32: =F32-D38 -> 0
F34: CPC | H34: ROI % | J34: RPC
F35: =D38/Wednesday!H7 -> #DIV/0! | H35: =(H32/D38) -> #DIV/0! | J35: =H32/Wednesday!H7 -> #DIV/0!
F37: CPCC | J37: RPCC
B38: Total | D38: =SUM(D32:D37) -> 0 | F38: =D38/Wednesday!J7 -> #DIV/0! | J38: =H32/Wednesday!J7 -> #DIV/0!
A40: Thursday
A41: Thursday | B41: Account | C41: Ad Account | D41: Spend | F41: Call Revenue | H41: Profits
H42: =F42-D48 -> 0
F44: CPC | H44: ROI % | J44: RPC
F45: =D48/Thursday!H7 -> #DIV/0! | H45: =(H42/D48) -> #DIV/0! | J45: =H42/Thursday!H7 -> #DIV/0!
F47: CPCC | J47: RPCC
B48: Total | D48: =SUM(D42:D47) -> 0 | F48: =D48/Thursday!J7 -> #DIV/0! | J48: =H42/Thursday!J7 -> #DIV/0!
A50: Friday
A51: Friday | B51: Account | C51: Ad Account | D51: Spend | F51: Call Revenue | H51: Profits
H52: =F52-D58 -> 0
F54: CPC | H54: ROI % | J54: RPC
...

Sheet Monday
A1: Ad Account | B1: Language | C1: Campaign | D1: Objective | E1: Ads | F1: Landers | G1: Dialed # | H1: Incoming | I1: Completed | J1: Converted | K1: Duplicate | L1: Revenue | M1: Ad Spend | N1: Profit
A2: 0 | B2: English | C2: Website & FB Page | G2: 18881234567 | H2: 3 | I2: 3 | J2: 1 | K2: 0 | L2: =J2*35 -> 35 | M2: 0 | N2: =L2-M2 -> 35
A3: 1 | B3: Spanish | C3: Sample Campaign | G3: 18559876541 | H3: 19 | I3: 18 | J3: 7 | K3: 10 | L3: =J3*35 -> 245 | M3: 58.16 | N3: =L3-M3 -> 186.84
L4: =J4*35 -> 0 | N4: =L4-M4 -> 0
L5: =J5*35 -> 0 | N5: =L5-M5 -> 0
L6: =J6*35 -> 0 | N6: =L6-M6 -> 0
H7: =SUM(H2:H6) -> 22 | I7: =SUM(I2:I6) -> 21 | J7: =SUM(J2:J6) -> 8 | K7: =SUM(K2:K6) -> 10 | L7: =SUM(L2:L6) -> 280 | M7: =SUM(M2:M6) -> 58.16 | N7: =L7-M7 -> 221.84

Sheet Tuesday
A1: Ad Account | B1: Language | C1: Campaign | D1: Objective | E1: Ads | F1: Landers | G1: Dialed # | H1: Incoming | I1: Completed | J1: Converted | K1: Duplicate | L1: Revenue | M1: Ad Spend | N1: Profit
A2: 0 | B2: English | C2: Website & FB Page | G2: 18881234567 | L2: =J2*35 -> 0 | M2: 0 | N2: =L2-M2 -> 0
A3: 1 | B3: Spanish | C3: Sample Campaign | G3: 18559876541 | L3: =J3*35 -> 0 | N3: =L3-M3 -> 0
L4: =J4*35 -> 0 | N4: =L4-M4 -> 0
L5: =J5*35 -> 0 | N5: =L5-M5 -> 0
L6: =J6*35 -> 0 | N6: =L6-M6 -> 0
H7: =SUM(H2:H6) -> 0 | I7: =SUM(I2:I6) -> 0 | J7: =SUM(J2:J6) -> 0 | K7: =SUM(K2:K6) -> 0 | L7: =SUM(L2:L6) -> 0 | M7: =SUM(M2:M6) -> 0 | N7: =L7-M7 -> 0

Sheet Wednesday
A1: Ad Account | B1: Language | C1: Campaign | D1: Objective | E1: Ads | F1: Landers | G1: Dialed # | H1: Incoming | I1: Completed | J1: Converted | K1: Duplicate | L1: Revenue | M1: Ad Spend | N1: Profit
A2: 0 | B2: English | C2: Website & FB Page | G2: 18881234567 | L2: =J2*35 -> 0 | M2: 0 | N2: =L2-M2 -> 0
A3: 1 | B3: Spanish | C3: Sample Campaign | G3: 18559876541 | L3: =J3*35 -> 0 | N3: =L3-M3 -> 0
L4: =J4*35 -> 0 | N4: =L4-M4 -> 0
L5: =J5*35 -> 0 | N5: =L5-M5 -> 0
L6: =J6*35 -> 0 | N6: =L6-M6 -> 0
H7: =SUM(H2:H6) -> 0 | I7: =SUM(I2:I6) -> 0 | J7: =SUM(J2:J6) -> 0 | K7: =SUM(K2:K6) -> 0 | L7: =SUM(L2:L6) -> 0 | M7: =SUM(M2:M6) -> 0 | N7: =L7-M7 -> 0

Sheet Thursday
A1: Ad Account | B1: Language | C1: Campaign | D1: Objective | E1: Ads | F1: Landers | G1: Dialed # | H1: Incoming | I1: Completed | J1: Converted | K1: Duplicate | L1: Revenue | M1: Ad Spend | N1: Profit
A2: 0 | B2: English | C2: Website & FB Page | G2: 18881234567 | L2: =J2*35 -> 0 | M2: 0 | N2: =L2-M2 -> 0
A3: 1 | B3: Spanish | C3: Sample Campaign | G3: 18559876541 | L3: =J3*35 -> 0 | N3: =L3-M3 -> 0
L4: =J4*35 -> 0 | N4: =L4-M4 -> 0
L5: =J5*35 -> 0 | N5: =L5-M5 -> 0
L6: =J6*35 -> 0 | N6: =L6-M6 -> 0
H7: =SUM(H2:H6) -> 0 | I7: =SUM(I2:I6) -> 0 | J7: =SUM(J2:J6) -> 0 | K7: =SUM(K2:K6) -> 0 | L7: =SUM(L2:L6) -> 0 | M7: =SUM(M2:M6) -> 0 | N7: =L7-M7 -> 0

Sheet Friday
A1: Ad Account | B1: Language | C1: Campaign | D1: Objective | E1: Ads | F1: Landers | G1: Dialed # | H1: Incoming | I1: Completed | J1: Converted | K1: Duplicate | L1: Revenue | M1: Ad Spend | N1: Profit
A2: 0 | B2: English | C2: Website & FB Page | G2: 18881234567 | L2: =J2*35 -> 0 | M2: 0 | N2: =L2-M2 -> 0
A3: 1 | B3: Spanish | C3: Sample Campaign | G3: 18559876541 | L3: =J3*35 -> 0 | N3: =L3-M3 -> 0
L4: =J4*35 -> 0 | N4: =L4-M4 -> 0
L5: =J5*35 -> 0 | N5: =L5-M5 -> 0
L6: =J6*35 -> 0 | N6: =L6-M6 -> 0
H7: =SUM(H2:H6) -> 0 | I7: =SUM(I2:I6) -> 0 | J7: =SUM(J2:J6) -> 0 | K7: =SUM(K2:K6) -> 0 | L7: =SUM(L2:L6) -> 0 | M7: =SUM(M2:M6) -> 0 | N7: =L7-M7 -> 0

Sheet Saturday
A1: Ad Account | B1: Language | C1: Campaign | D1: Objective | E1: Ads | F1: Landers | G1: Dialed # | H1: Incoming | I1: Completed | J1: Converted | K1: Duplicate | L1: Revenue | M1: Ad Spend | N1: Profit
A2: 0 | B2: English | C2: Website & FB Page | G2: 18881234567 | L2: =J2*35 -> 0 | M2: 0 | N2: =L2-M2 -> 0
A3: 1 | B3: Spanish | C3: Sample Campaign | G3: 18559876541 | L3: =J3*35 -> 0 | N3: =L3-M3 -> 0
L4: =J4*35 -> 0 | N4: =L4-M4 -> 0
L5: =J5*35 -> 0 | N5: =L5-M5 -> 0
L6: =J6*35 -> 0 | N6: =L6-M6 -> 0
H7: =SUM(H2:H6) -> 0 | I7: =SUM(I2:I6) -> 0 | J7: =SUM(J2:J6) -> 0 | K7: =SUM(K2:K6) -> 0 | L7: =SUM(L2:L6) -> 0 | M7: =SUM(M2:M6) -> 0 | N7: =L7-M7 -> 0

Sheet Sunday
A1: Ad Account | B1: Language | C1: Campaign | D1: Objective | E1: Ads | F1: Landers | G1: Dialed # | H1: Incoming | I1: Completed | J1: Converted | K1: Duplicate | L1: Revenue | M1: Ad Spend | N1: Profit
A2: 0 | B2: English | C2: Website & FB Page | G2: 18881234567 | L2: =J2*35 -> 0 | M2: 0 | N2: =L2-M2 -> 0
A3: 1 | B3: Spanish | C3: Sample Campaign | G3: 18559876541 | L3: =J3*35 -> 0 | N3: =L3-M3 -> 0
L4: =J4*35 -> 0 | N4: =L4-M4 -> 0
L5: =J5*35 -> 0 | N5: =L5-M5 -> 0
L6: =J6*35 -> 0 | N6: =L6-M6 -> 0
H7: =SUM(H2:H6) -> 0 | I7: =SUM(I2:I6) -> 0 | J7: =SUM(J2:J6) -> 0 | K7: =SUM(K2:K6) -> 0 | L7: =SUM(L2:L6) -> 0 | M7: =SUM(M2:M6) -> 0 | N7: =L7-M7 -> 0
